BEGIN:VCALENDAR
VERSION:2.0
PRODID:-//Microsoft Corporation//Outlook 11.0 MIMEDIR//EN
METHOD:PUBLISH
BEGIN:VEVENT
CLASS:PUBLIC
CATEGORIES:Music
DTSTAMP:20260420135047Z
UID:pioneervalleycappella2605081930-1776693047@choralarts-newengland.org
DTSTART:20260508T233000Z
DTEND:20260509T013000Z
SUMMARY:Pioneer Valley Cappella: \"The Fruit of Silence: Choral Meditations on
  Peace\"
LOCATION:All Saints Church\, 7 Woodbridge St\, South Hadley MA 01075
URL:http://pioneervalleycappella.net/concerts.html
DESCRIPTION:Peteris Vasks: The Fruit of Silence (setting a prayer by Mother Teresa:
  “The fruit of silence is prayer\, the fruit of prayer is faith\, the
  fruit of faith is love\, the fruit of love is service\, the fruit of
  service is peace”)\; Undine Smith Moore: “Bound for Canaan’s
  Land”\; “Striving After God”\; “We Shall Walk Through the Valley
  in Peace”\; Louis Lewandowski: Psalm 84 for chorus and organ\; Geoffrey
  Hudson: Four Sacred Pieces (premiere)\; Osbert Parsley: Haec dies\;
  Sergei Rachmaninoff: Ave Maria from All Night Vigil\; William Byrd: Dona
  nobis pacem from Mass for Four Voices\; Henry Purcell: “Alleluia”\;
  Te Deum and Jubilate in D. With string quartet\, organ\, and two
  trumpets. Geoffrey Hudson\, Music Director. For more information\, email
  pioneervalleycappella@gmail.com.
END:VEVENT
END:VCALENDAR
