BEGIN:VCALENDAR
VERSION:2.0
PRODID:-//Microsoft Corporation//Outlook 11.0 MIMEDIR//EN
METHOD:PUBLISH
BEGIN:VEVENT
CLASS:PUBLIC
CATEGORIES:Music
DTSTAMP:20260421172819Z
UID:pioneervalleycappella2511211930-1776792499@choralarts-newengland.org
DTSTART:20251122T003000Z
DTEND:20251122T023000Z
SUMMARY:Pioneer Valley Cappella: \"Love is Here to Stay\"
LOCATION:All Saints Church\, 7 Woodbridge St\, South Hadley MA
URL:http://www.pioneervalleycappella.net
DESCRIPTION:Emanuel Astorga: Stabat mater for chorus and strings\; Pärt Uusberg:
  Muusika\; George and Ira Gershwin (newly arranged by Geoffrey Hudson):
  “They Can’t Take That Away From Me\; “They All Laughed”\; “Love
  Is Here to Stay”. Geoffrey Hudson\, director. With instrumentalists
  Sarah Briggs\, Charlotte Malin Collins\, Colleen Jennings\, and Karl
  Knapp. For more information\, email pioneervalleycappella@gmail.com.
END:VEVENT
END:VCALENDAR
