BEGIN:VCALENDAR
VERSION:2.0
PRODID:-//Microsoft Corporation//Outlook 11.0 MIMEDIR//EN
METHOD:PUBLISH
BEGIN:VEVENT
CLASS:PUBLIC
CATEGORIES:Music
DTSTAMP:20260421154527Z
UID:newphilharmoniaorchestrabostonceciliahighlandgleeclub2511161400-1776786327@choralarts-newengland.org
DTSTART:20251116T190000Z
DTEND:20251116T210000Z
SUMMARY:New Philharmonia Orchestra / Boston Cecilia / Highland Glee Club:
  \"Classics I: Ode to Community\"
LOCATION:Trinity Chapel\, Boston College\, 885 Centre Street\, Newton MA 02459
URL:http://www.newphil.org
DESCRIPTION:Ludwig van Beethoven: Symphony No. 9. Olga Lisovska\, soprano\; JP
  Peterson\, mezzo-soprano\; Maoyu Hou\, tenor\; Qinglin Liu\, baritone.
  Tickets: $10-$45. For more information\, email info@newphil.org.
END:VEVENT
END:VCALENDAR
