BEGIN:VCALENDAR
VERSION:2.0
PRODID:-//Microsoft Corporation//Outlook 11.0 MIMEDIR//EN
METHOD:PUBLISH
BEGIN:VEVENT
CLASS:PUBLIC
CATEGORIES:Music
DTSTAMP:20260423221356Z
UID:nashobavalleychorale2601181500-1776982436@choralarts-newengland.org
DTSTART:20260118T200000Z
DTEND:20260118T220000Z
SUMMARY:Nashoba Valley Chorale: \"Hallelujah! 50th Anniversary Concert\"
LOCATION:Groton-Dunstable Performing Arts\, 344 Main Street\, Groton MA 01450
URL:http://www.nashobachorale.org
DESCRIPTION:Ludwig van Beethoven: Mass in C\; Benjamin Britten: Rejoice in the Lamb\;
  music of Bach\, Vivaldi\, Thompson\, and Woo. Ann Moss\, soprano\; Kate
  Engel Meifert\, mezzo-soprano\; Philippe L'Esperance\, tenor\; Marc
  DeMille\, bass\; Jordan Bailey Jones\, emerging artist\; Shawn McCann\,
  organ\; Anne Watson Born\, director. Tickets: Pay-what-you-can. For more
  information\, call 978-540-5022 email info@nashobachorale.org.
END:VEVENT
END:VCALENDAR
