BEGIN:VCALENDAR
VERSION:2.0
PRODID:-//Microsoft Corporation//Outlook 11.0 MIMEDIR//EN
METHOD:PUBLISH
BEGIN:VEVENT
CLASS:PUBLIC
CATEGORIES:Music
DTSTAMP:20260423221551Z
UID:nashobavalleychorale2511151630-1776982551@choralarts-newengland.org
DTSTART:20251115T213000Z
DTEND:20251115T233000Z
SUMMARY:Nashoba Valley Chorale: \"Common Voice Community Choir Festival\"
LOCATION:Moloney Performing Arts Center at UMass Lowell\, 35 Wilder Street\,
  Lowell MA 01854
URL:http://www.nashobachorale.org
DESCRIPTION: For more information\, call 978-540-5022 email info@nashobachorale.org.
END:VEVENT
END:VCALENDAR
