BEGIN:VCALENDAR
VERSION:2.0
PRODID:-//Microsoft Corporation//Outlook 11.0 MIMEDIR//EN
METHOD:PUBLISH
BEGIN:VEVENT
CLASS:PUBLIC
CATEGORIES:Music
DTSTAMP:20260423075636Z
UID:kearsargechorale2601251500-1776930996@choralarts-newengland.org
DTSTART:20260125T200000Z
DTEND:20260125T220000Z
SUMMARY:Kearsarge Chorale: \"Laughter and Tears\"
LOCATION:Our Lady of Fatima Church\, 724 Main Street\, New London NH 03257
URL:http://kearsargechorale.org
DESCRIPTION:John Rutter: Requiem\; Jake Runestad: Into the Light. Hannah Shanefield\,
  soprano. With chamber orchestra. Tickets: $15\, students free. For more
  information\, call 603-526-4391 email kearsargechorale@gmail.com.
END:VEVENT
END:VCALENDAR
