BEGIN:VCALENDAR
VERSION:2.0
PRODID:-//Microsoft Corporation//Outlook 11.0 MIMEDIR//EN
METHOD:PUBLISH
BEGIN:VEVENT
CLASS:PUBLIC
CATEGORIES:Music
DTSTAMP:20260421191819Z
UID:highlandgleeclub2512061500-1776799099@choralarts-newengland.org
DTSTART:20251206T200000Z
DTEND:20251206T220000Z
SUMMARY:Highland Glee Club: \"Holiday Angelsong\"
LOCATION:Christ Episcopal Church\, 1132 Highland Avenue\, Needham MA 02494
URL:http://highlandgleeclub.com
DESCRIPTION:Holiday music by Palestrina\, Franck\, Schubert\, Praetorius\,
  Mendelssohn\, Rubinstein\, and Dan Wulf. Jessica Erving\, mezzo-soprano\;
  Connor Vigeant\, tenor\; Eleanor Markey\, violin\; Jonathan Reddix\,
  accompanist\; Sarah Robinson Seeber\, Music Director. Tickets: $20 in
  advance\, $25 at the door\, free for children. Complimentary reception
  following concert. For more information\, call 508-641-9985 email
  highlandgleeclub@gmail.com.
END:VEVENT
END:VCALENDAR
