BEGIN:VCALENDAR
VERSION:2.0
PRODID:-//Microsoft Corporation//Outlook 11.0 MIMEDIR//EN
METHOD:PUBLISH
BEGIN:VEVENT
CLASS:PUBLIC
CATEGORIES:Music
DTSTAMP:20260421225722Z
UID:highlandgleeclub2510181500-1776812242@choralarts-newengland.org
DTSTART:20251018T190000Z
DTEND:20251018T210000Z
SUMMARY:Highland Glee Club: \"Harvest and the Hunt\"
LOCATION:Allen House\, 35 Webster Street\, Newton MA 02465
URL:http://highlandgleeclub.com
DESCRIPTION:Part songs of Schumann\, Brahms\, Randall Thompson and more\, followed by
  an Oktoberfest-style reception complete with beer and pretzels. Tickets:
  $20 advance\, $25 at the door. For more information\, call 508-641-9985
  email highlandgleeclub@gmail.com.
END:VEVENT
END:VCALENDAR
