BEGIN:VCALENDAR
VERSION:2.0
PRODID:-//Microsoft Corporation//Outlook 11.0 MIMEDIR//EN
METHOD:PUBLISH
BEGIN:VEVENT
CLASS:PUBLIC
CATEGORIES:Music
DTSTAMP:20260419134046Z
UID:handelandhaydnsociety2510051500-1776606046@choralarts-newengland.org
DTSTART:20251005T190000Z
DTEND:20251005T210000Z
SUMMARY:Handel and Haydn Society: \"Saul\"
LOCATION:Symphony Hall\, 301 Massachusetts Avenue\, Boston MA 02115
URL:http://www.handelandhaydn.org
DESCRIPTION:G.F. Handel: Saul. Neal Davies\, bass-baritone (Saul)\; Christopher
  Lowrey\, countertenor (David)\; Sarah Brady\, soprano (Merab)\; Julie
  Roset\, soprano (Michal)\; Linard Vrielink\, tenor (Jonathan)\; Jonathan
  Cohen\, conductor. With the H+H Youth Choruses and CitySing participants.
  For more information\, call 617-262-1815 email info@handelandhaydn.org.
END:VEVENT
END:VCALENDAR
