BEGIN:VCALENDAR
VERSION:2.0
PRODID:-//Microsoft Corporation//Outlook 11.0 MIMEDIR//EN
METHOD:PUBLISH
BEGIN:VEVENT
CLASS:PUBLIC
CATEGORIES:Music
DTSTAMP:20260423161153Z
UID:gmchorale2511091600-1776960713@choralarts-newengland.org
DTSTART:20251109T210000Z
DTEND:20251109T230000Z
SUMMARY:GMChorale: \"Love\, Waltzes and Luminous Skies\"
LOCATION:Middletown High School\, 200 LaRosa Lane\, Middletown CT 06457
URL:http://gmchorale.org
DESCRIPTION:Johnannes Brahms: Liebeslieder Waltzes\; James Mulholland: “My love is
  like a red\, red rose” from Four Robert Burns Ballads\, Morten
  Lauridsen: Sure on this Shining Night\; Dirait-on\; Shawn Kirchner:
  \"Bright Morning Stars\"\; “Sweet Rivers”. Joseph D’Eugeni\,
  director\; Eric Trudel and Blake Hansen\, piano. Wit the Elm City
  Girls’ Choir. Pre-concert lecture at 3:00pm by Neely Bruce. For more
  information\, call 860-316-4854 email info@gmchorale.org.
END:VEVENT
END:VCALENDAR
