BEGIN:VCALENDAR
VERSION:2.0
PRODID:-//Microsoft Corporation//Outlook 11.0 MIMEDIR//EN
METHOD:PUBLISH
BEGIN:VEVENT
CLASS:PUBLIC
CATEGORIES:Music
DTSTAMP:20260421185730Z
UID:franklincountycommunitychorus2512071500-1776797850@choralarts-newengland.org
DTSTART:20251207T200000Z
DTEND:20251207T220000Z
SUMMARY:Franklin County Community Chorus: \"Holiday Concert\"
LOCATION:Greenfield High School Auditorium\, 21 Barr Avenue\, Greenfield MA 01301
DESCRIPTION:Seasonal favorites from several cultures are celebrated as more than 60
  voices are raised in song. For more information\, call 413-834-7925 email
  franklincountychorus@gmail.com.
END:VEVENT
END:VCALENDAR
