BEGIN:VCALENDAR
VERSION:2.0
PRODID:-//Microsoft Corporation//Outlook 11.0 MIMEDIR//EN
METHOD:PUBLISH
BEGIN:VEVENT
CLASS:PUBLIC
CATEGORIES:Music
DTSTAMP:20260423201059Z
UID:counterpoint2512111900-1776975059@choralarts-newengland.org
DTSTART:20251212T000000Z
DTEND:20251212T020000Z
SUMMARY:Counterpoint: \"Christmas with Counterpoint and the Vermont Symphony
  Orchestra Brass Quintet\"
LOCATION:United Church\, 339 Main Street\, Warren VT 05674
URL:http://www.counterpointchorus.org
DESCRIPTION: For more information\, call 802-540-1784 email
  contact@counterpointchorus.org.
END:VEVENT
END:VCALENDAR
