BEGIN:VCALENDAR
VERSION:2.0
PRODID:-//Microsoft Corporation//Outlook 11.0 MIMEDIR//EN
METHOD:PUBLISH
BEGIN:VEVENT
CLASS:PUBLIC
CATEGORIES:Music
DTSTAMP:20260423201040Z
UID:counterpoint2511091500-1776975040@choralarts-newengland.org
DTSTART:20251109T200000Z
DTEND:20251109T220000Z
SUMMARY:Counterpoint: \"Sunrise Mass\"
LOCATION:Inn at the Round Barn Farm\, 1661 E Warren Road\, Waitsfield VT 05673
URL:http://www.counterpointchorus.org
DESCRIPTION:Ola Gjeilo: Sunrise Mass. With the Eleva Chamber Players. For more
  information\, call 802-540-1784 email contact@counterpointchorus.org.
END:VEVENT
END:VCALENDAR
