BEGIN:VCALENDAR
VERSION:2.0
PRODID:-//Microsoft Corporation//Outlook 11.0 MIMEDIR//EN
METHOD:PUBLISH
BEGIN:VEVENT
CLASS:PUBLIC
CATEGORIES:Music
DTSTAMP:20260421014340Z
UID:conviviummusicum2603081600-1776735820@choralarts-newengland.org
DTSTART:20260308T200000Z
DTEND:20260308T220000Z
SUMMARY:Convivium Musicum: \"Discovering Anonymous\"
LOCATION:All Saints Parish\, 1773 Beacon Street\, Brookline MA 02445
URL:http://convivium.org/concert-season/tickets/
DESCRIPTION:We explore some of the many Renaissance pieces that were published with
  no composer listed\, with the premiere of a lost mass from a Cambrai
  Cathedral manuscript\, rediscovered by Boston musicologist Sam Bradley\,
  and other works ranging from French chansons to English anthems\;
  Anonymous was prolific! For more information\, call 617-320-7445 email
  info@convivium.org.
END:VEVENT
END:VCALENDAR
