BEGIN:VCALENDAR
VERSION:2.0
PRODID:-//Microsoft Corporation//Outlook 11.0 MIMEDIR//EN
METHOD:PUBLISH
BEGIN:VEVENT
CLASS:PUBLIC
CATEGORIES:Music
DTSTAMP:20260421014022Z
UID:conviviummusicum2511221900-1776735622@choralarts-newengland.org
DTSTART:20251123T000000Z
DTEND:20251123T020000Z
SUMMARY:Convivium Musicum: \"Mysteries and Deceit: Misattributed Masterpieces\"
LOCATION:All Saints Parish\, 1773 Beacon Street\, Brookline MA 02445
URL:http://www.convivium.org
DESCRIPTION:Repertoire that has been credited\, either through accident or
  deception\, to the wrong composer. The centerpiece will be Bauldeweyn’s
  Missa da Pacem\, formerly attributed to Josquin\; and we will share other
  works misattributed to Obrecht\, Isaac\, Victoria\, and Palestrina. For
  more information\, call 617-720-3445 email mdettelb@gmail.com.
END:VEVENT
END:VCALENDAR
