BEGIN:VCALENDAR
VERSION:2.0
PRODID:-//Microsoft Corporation//Outlook 11.0 MIMEDIR//EN
METHOD:PUBLISH
BEGIN:VEVENT
CLASS:PUBLIC
CATEGORIES:Music
DTSTAMP:20260421201858Z
UID:concordwomenschorus2512061600-1776802738@choralarts-newengland.org
DTSTART:20251206T210000Z
DTEND:20251206T230000Z
SUMMARY:Concord Women's Chorus: \"Radiant Light: A Celebration of the Season\"
LOCATION:Trinitarian Congregational Church\, 54 Walden Street\, Concord MA 01742
URL:http://www.concordwomenschorus.org
DESCRIPTION:Dan Forrest: Lux: The Dawn from on High\; Shalom\; Ruth Morris Gray:
  \"What Child Is This\"\; Siyahamba\; Elaine Hagenberg: \"O Come\,
  Emmanuel\". For more information\, call 978-369-6341 email
  contact@concordwomenschorus.org.
END:VEVENT
END:VCALENDAR
