BEGIN:VCALENDAR
VERSION:2.0
PRODID:-//Microsoft Corporation//Outlook 11.0 MIMEDIR//EN
METHOD:PUBLISH
BEGIN:VEVENT
CLASS:PUBLIC
CATEGORIES:Music
DTSTAMP:20260423123239Z
UID:communitychorusatsouthberwick2511161500-1776947559@choralarts-newengland.org
DTSTART:20251116T200000Z
DTEND:20251116T220000Z
SUMMARY:Community Chorus at South Berwick: \"I Hear My Song at Last\"
LOCATION:Hussey Theatre\, Noble High School\, 100 Noble Way\, North Berwick ME
  03906
URL:http://www.CCSB-SING.org
DESCRIPTION:Giselle Wyers: I Hear My Song at Last (base on Wendell Berry's poem \"I
  Go Among Trees\")\; and works by Jeffery Ames\, William Dawson\, Ola
  Gjeilo\, Alice Parker\, Jean Ritchie\, and others. Tickets: $17 advance\,
  $20 at the door\, $17 students/seniors\, free for children 12 and under.
  For more information\, email CCSB.Contacts@gmail.com.
END:VEVENT
END:VCALENDAR
