BEGIN:VCALENDAR
VERSION:2.0
PRODID:-//Microsoft Corporation//Outlook 11.0 MIMEDIR//EN
METHOD:PUBLISH
BEGIN:VEVENT
CLASS:PUBLIC
CATEGORIES:Music
DTSTAMP:20260421184424Z
UID:castleofourskinsbostonchildrenschorus2603071500-1776797064@choralarts-newengland.org
DTSTART:20260307T200000Z
DTEND:20260307T220000Z
SUMMARY:Castle of Our Skins / Boston Children's Chorus: \"The Dream the Dreamers
  Dreamed\"
LOCATION:Salvation Army Kroc Center\, 650 Dudley Street\, Boston MA 02125
URL:http://www.castleskins.org/event-details/the-dream-the-dreamers-dreamed
DESCRIPTION:A program inspired by Langston Hughes’ epic poem Let America Be America
  Again. Derrick Skye: American Mirror for string quartet and vocalists\,
  incorporating African\, European\, classical Indian\, and American folk
  styles. Free admission\, part of the Celebrity Series Neighborhood Arts
  program. For more information\, call 857-506-1517 email
  info@castleskins.org.
END:VEVENT
END:VCALENDAR
