BEGIN:VCALENDAR
VERSION:2.0
PRODID:-//Microsoft Corporation//Outlook 11.0 MIMEDIR//EN
METHOD:PUBLISH
BEGIN:VEVENT
CLASS:PUBLIC
CATEGORIES:Music
DTSTAMP:20260420121123Z
UID:bostonjazzvoices2606141400-1776687083@choralarts-newengland.org
DTSTART:20260614T180000Z
DTEND:20260614T200000Z
SUMMARY:Boston Jazz Voices: \"Spring Into Summer\"
LOCATION:375 Lexington Street\, Waltham MA 02452
URL:http://www.bostonjazzvoices.org/
DESCRIPTION:An afternoon of a cappella jazz in the beautiful Chapel Hill-Chauncey
  Hall Assembly hall. Tickets: $20\, $15 students. For more information\,
  email info@bostonjazzvoices.org.
END:VEVENT
END:VCALENDAR
