BEGIN:VCALENDAR
VERSION:2.0
PRODID:-//Microsoft Corporation//Outlook 11.0 MIMEDIR//EN
METHOD:PUBLISH
BEGIN:VEVENT
CLASS:PUBLIC
CATEGORIES:Music
DTSTAMP:20260421195904Z
UID:arlingtonbelmontchorale2512132000-1776801544@choralarts-newengland.org
DTSTART:20251214T010000Z
DTEND:20251214T030000Z
SUMMARY:Arlington-Belmont Chorale: \"Not-Quite-Winter Concert\"
LOCATION:Payson Park Congregational Church\, 365 Belmont Street\, Belmont MA 02478
URL:http://www.psarlington.org/
DESCRIPTION:The Arlington-Belmont Chamber Chorus. Johann Sebastian Bach – Cantata
  140\, Wachet auf\, ruft uns die Stimme\; Cantata 61\, Nun komm\, der
  Heiden Heiland (first and last movements)\; Jesu\, Joy of Man’s
  Desiring\; Magnificat (last two movements). For more information\, call
  617-489-1231 email chorale@psarlington.org.
END:VEVENT
END:VCALENDAR
