BEGIN:VCALENDAR
VERSION:2.0
PRODID:-//Microsoft Corporation//Outlook 11.0 MIMEDIR//EN
METHOD:PUBLISH
BEGIN:VEVENT
CLASS:PUBLIC
CATEGORIES:Music
DTSTAMP:20260419120307Z
UID:newhampshiregaymenschorus2512141500-1776600187@choralarts-newengland.org
DTSTART:20251214T200000Z
DTEND:20251214T220000Z
SUMMARY:New Hampshire Gay Mens Chorus: \"Peace & Goodwill - Holiday concert\"
LOCATION:The Rex Theatre\, 23 Amherst Street\, Manchester NH 03101
URL:http://www.nhgmc.com
DESCRIPTION:Concord \, Sunday\, Dec 7 @ 3:00 PM (Doors open at 2:00 PM) Stratham \,
  Saturday\, December 13 @ 7:00pm (Doors open at 6:30pm) Manchester
  Sunday\, December 14 @ 3:00pm (Doors Open at 2:30pm) For more
  information\, call 603-263-4333 email chorus@nhgmc.com.
END:VEVENT
END:VCALENDAR
