BEGIN:VCALENDAR
VERSION:2.0
PRODID:-//Microsoft Corporation//Outlook 11.0 MIMEDIR//EN
METHOD:PUBLISH
BEGIN:VEVENT
CLASS:PUBLIC
CATEGORIES:Music
DTSTAMP:20260421102342Z
UID:newhampshiregaymenschorus2512071500-1776767022@choralarts-newengland.org
DTSTART:20251207T200000Z
DTEND:20251207T220000Z
SUMMARY:New Hampshire Gay Mens Chorus: \"Peace & Goodwill - Holiday concert\"
LOCATION:Capital Center for The Arts\, BNH Stage\, 16 S Main Street\, Concord NH
  03301
URL:http://www.nhgmc.com
DESCRIPTION:Concord \, Sunday\, Dec 7 @ 3:00 PM (Doors open at 2:00 PM) Stratham \,
  Saturday\, December 13 @ 7:00pm (Doors open at 6:30pm) Manchester
  Sunday\, December 14 @ 3:00pm (Doors Open at 2:30pm) For more
  information\, call 603-263-4333 email chorus@nhgmc.com.
END:VEVENT
END:VCALENDAR
