BEGIN:VCALENDAR
VERSION:2.0
PRODID:-//Microsoft Corporation//Outlook 11.0 MIMEDIR//EN
METHOD:PUBLISH
BEGIN:VEVENT
CLASS:PUBLIC
CATEGORIES:Music
DTSTAMP:20260421231152Z
UID:mastersingersoflexington2602282000-1776813112@choralarts-newengland.org
DTSTART:20260301T010000Z
DTEND:20260301T030000Z
SUMMARY:Master Singers of Lexington: \"Pops: Of Presidents and Kings\"
LOCATION:First Parish Church In Lexington\, 7 Harrington Road\, Lexington MA 02421
URL:http://www.themastersingers.org
DESCRIPTION:Songs and choruses about monarchy and democracy\, featuring music from
  1776\, \"Sister Suffragette\" from Mary Poppins\, \"If I Were King of the
  Forest\" from The Wizard of Oz\, as sell as works by Irving Berlin\,
  Leonard Bernstein\, George Gershwin\, Elton John\, Alan Menken\, Gilbert
  & Sullivan\, and others. For more information\, call 781-729-7975 email
  msingers@themastersingers.org.
END:VEVENT
END:VCALENDAR
