BEGIN:VCALENDAR
VERSION:2.0
PRODID:-//Microsoft Corporation//Outlook 11.0 MIMEDIR//EN
METHOD:PUBLISH
BEGIN:VEVENT
CLASS:PUBLIC
CATEGORIES:Music
DTSTAMP:20260419125224Z
UID:mastersingersoflexington2512141600-1776603144@choralarts-newengland.org
DTSTART:20251214T210000Z
DTEND:20251214T230000Z
SUMMARY:Master Singers of Lexington: \"A Master Singers Christmas\"
LOCATION:First Parish Church In Lexington\, 7 Harrington Road\, Lexington MA 02421
URL:http://www.themastersingers.org
DESCRIPTION:W.A. Mozart: Missa Brevis in F\; Rodney Lister: The Annunciation\;
  Carol(first performance)\; \"Away In a Manger\"\; \"The Holly and The
  Ivy\". As always\, we will conclude with a selection of festive Christmas
  carols. For more information\, call 781-729-7975 email
  msingers@themastersingers.org.
END:VEVENT
END:VCALENDAR
