BEGIN:VCALENDAR
VERSION:2.0
PRODID:-//Microsoft Corporation//Outlook 11.0 MIMEDIR//EN
METHOD:PUBLISH
BEGIN:VEVENT
CLASS:PUBLIC
CATEGORIES:Music
DTSTAMP:20260419124942Z
UID:eudaimoniavoices2602091930-1776602982@choralarts-newengland.org
DTSTART:20260210T003000Z
DTEND:20260210T023000Z
SUMMARY:Eudaimonia Voices: \"Thin Places and Narrow Passages: Musical Pathways to
  the Unbound Spirit\"
LOCATION:First Parish in Cambridge\, 3 Church Street\, Harvard Square\, Cambridge
  MA 02138
URL:http://eudaimonia-music.org
DESCRIPTION:Rescheduled due to snow. Benjamin Britten: Hymn to St. Cecilia\; with
  otherworldly period works by Byrd\, Blow\, and Billings\, and dipping
  into contemporary and Appalachian song. Vivian Montgomery\, director.
  Eudaimonia’s Social Action Partnership for this event will highlight
  the freeing work of Lesley University’s program for Dance and Movement
  Therapy\, which teaches the power of dance as a channel for trauma
  recovery and community repair. Admission: Pay-What-You-Decide ($20
  recommended). For more information\, call 617-223-1627 email
  vivian.musicdirector@gmail.com.
END:VEVENT
END:VCALENDAR
