BEGIN:VCALENDAR
VERSION:2.0
PRODID:-//Microsoft Corporation//Outlook 11.0 MIMEDIR//EN
METHOD:PUBLISH
BEGIN:VEVENT
CLASS:PUBLIC
CATEGORIES:Music
DTSTAMP:20260420062214Z
UID:connecticutchamberchoir2603282000-1776666134@choralarts-newengland.org
DTSTART:20260329T000000Z
DTEND:20260329T020000Z
SUMMARY:Connecticut Chamber Choir: \"I Still Am Free\"
LOCATION:First Church Congregational\, 148 Beach Road\, Fairfield CT 06824
URL:http://www.ctchamberchoir.org/
DESCRIPTION:Works by Effinger\, Kjelson\, Parker\, Shaw\, Siegfried\, Thompson and
  Walker. Michael Ciavaglia\, director\; Galen Tate\, piano and organ\;
  Olav Van Hezewijk\, oboe. Tickets: $20\, $15 seniors\, $5 students. For
  more information\, call 203-650-1579 email info@ctchamberchoir.org.
END:VEVENT
END:VCALENDAR
