BEGIN:VCALENDAR
VERSION:2.0
PRODID:-//Microsoft Corporation//Outlook 11.0 MIMEDIR//EN
METHOD:PUBLISH
BEGIN:VEVENT
CLASS:PUBLIC
CATEGORIES:Music
DTSTAMP:20260421231202Z
UID:cappellaclausura2601241600-1776813122@choralarts-newengland.org
DTSTART:20260124T210000Z
DTEND:20260124T230000Z
SUMMARY:Cappella Clausura: \"In tongues: Ruehr’s “Cassandra”\"
LOCATION:Grace Episcopal Church\, 76 Eldredge Street\, Newton MA 02458
URL:http://www.clausura.org
DESCRIPTION:(NOTE: Sunday's performance time has been changed to 2 pm instead of 4 pm
  due to snow.) Elena Ruehr Cassandra\; music by Julia Wolfe\, Alissa
  Voth\, and Isaac Roth Blumfield. Magic spells\, prophecies\, secrets\,
  prayers\; what happens when words mean more than what they say? Speech
  has the power to persuade\, clarify\, distort\, and to move. In myth\,
  Cassandra’s blessing is that she can see the future\; her curse is that
  no one believes or understands her prophecies. For more information\,
  call 617-993-0013 email manager@clausura.org.
END:VEVENT
END:VCALENDAR
