BEGIN:VCALENDAR
VERSION:2.0
PRODID:-//Microsoft Corporation//Outlook 11.0 MIMEDIR//EN
METHOD:PUBLISH
BEGIN:VEVENT
CLASS:PUBLIC
CATEGORIES:Music
DTSTAMP:20260421173233Z
UID:cappellaclausura2511161600-1776792753@choralarts-newengland.org
DTSTART:20251116T210000Z
DTEND:20251116T230000Z
SUMMARY:Cappella Clausura: \"The Fall of the Sparrow: Contemporary Classics\"
LOCATION:Emmanuel Church\, 15 Newbury Street\, Boston MA 02116
URL:http://www.clausura.org
DESCRIPTION:Music by Caroline Shaw\, Evelin Seppar\, Melinda Wagner\, Patricia Van
  Ness\, and others. What is it about the natural world that makes us
  reflect on our humanity? This program features music about nature\,
  identity\, and grief—and how these three themes seem to go together
  naturally in music and art. For more information\, call 617-993-0013
  email manager@clausura.org.
END:VEVENT
END:VCALENDAR
