BEGIN:VCALENDAR
VERSION:2.0
PRODID:-//Microsoft Corporation//Outlook 11.0 MIMEDIR//EN
METHOD:PUBLISH
BEGIN:VEVENT
CLASS:PUBLIC
CATEGORIES:Music
DTSTAMP:20260423235909Z
UID:voicesofdistinction2512061900-1776988749@choralarts-newengland.org
DTSTART:20251207T000000Z
DTEND:20251207T020000Z
SUMMARY:Voices of Distinction: \"Yuletide Sounds\"
LOCATION:Main Street Congregational Church\, UCC\, 145 Main Street\, Amesbury MA
  01913
URL:http://www.voicesofdistinction.org
DESCRIPTION:A rich tapestry of traditional and contemporary selections\, brought to
  life by local professional musicians on piano\, strings\, and percussion.
  Danny Smith\, Music Director. With the vocal ensemble FortEtude. Tickets:
  $17 advance\, $20 at the door. For more information\, call 603-964-8687
  email adminassistant@uccnorthhampton.org.
END:VEVENT
END:VCALENDAR
