BEGIN:VCALENDAR
VERSION:2.0
PRODID:-//Microsoft Corporation//Outlook 11.0 MIMEDIR//EN
METHOD:PUBLISH
BEGIN:VEVENT
CLASS:PUBLIC
CATEGORIES:Music
DTSTAMP:20260421013953Z
UID:seraphimsingers2512211930-1776735593@choralarts-newengland.org
DTSTART:20251222T003000Z
DTEND:20251222T023000Z
SUMMARY:The Seraphim Singers: \"A Seraphim Christmas\"
LOCATION:First Church in Cambridge\, 11 Garden Street\, Cambridge MA 02138
URL:http://www.seraphimsingers.org/upcoming
DESCRIPTION:Eric Christopher Perry\, Music Director\; Heinrich Christensen\, organ.
  With the Bitumen Brass Quartet. Seasonal music\, carol singing\, and
  serene joy and jubilant good tidings. Join in Seraphim's community
  outreach project by bringing donations of sturdy winter wear to the
  concerts to help those facing housing insecurity. Tickets: $30\, $25
  senior\, $15 student. First Time Promo: two for the price of one ($30).
  Virtual: $20 per viewer. Sunday evening concert is in person and
  streamed. For more information\, call 617-312-8328 email
  darylbichel@aol.com.
END:VEVENT
END:VCALENDAR
