BEGIN:VCALENDAR
VERSION:2.0
PRODID:-//Microsoft Corporation//Outlook 11.0 MIMEDIR//EN
METHOD:PUBLISH
BEGIN:VEVENT
CLASS:PUBLIC
CATEGORIES:Music
DTSTAMP:20260421013926Z
UID:seraphimsingers2511021500-1776735566@choralarts-newengland.org
DTSTART:20251102T200000Z
DTEND:20251102T220000Z
SUMMARY:The Seraphim Singers: \"Danse Macabre\"
LOCATION:First Church In Cambridge\, 11 Garden Street\, Cambridge MA 02138
URL:http://www.seraphimsingers.org/upcoming
DESCRIPTION:Maurice Duruflé: Requiem\, Op. 9 (1948 version)\; with similar works by
  20th and 21st century French composers that connect Charles Baudelaire's
  Danse macabre to music’s own dance between life and death. Heinrich
  Christensen\, organ\; Paul Mattal\, cello\; Eric Christopher Perry\,
  Music Director. Sunday performance available online. Tickets: $30\, $25
  senior\, $15 student. For those who grieve and long for loved ones at
  this time of the year\, we hope this commemoration of the departed will
  bring comfort. For more information\, call 617-312-8328 email
  darylbichel@aol.com.
END:VEVENT
END:VCALENDAR
