BEGIN:VCALENDAR
VERSION:2.0
PRODID:-//Microsoft Corporation//Outlook 11.0 MIMEDIR//EN
METHOD:PUBLISH
BEGIN:VEVENT
CLASS:PUBLIC
CATEGORIES:Music
DTSTAMP:20260419120402Z
UID:pemigewassetchoralsociety2512071500-1776600242@choralarts-newengland.org
DTSTART:20251207T200000Z
DTEND:20251207T220000Z
SUMMARY:Pemigewasset Choral Society: \"Songs by the Hearth\"
LOCATION:PSU Silver Center For The Arts\, 114 Main Street\, Plymouth NH 03264
URL:http://www.pemichoral.org
DESCRIPTION:Seasonal songs and readings. Admission by donation. For more
  information\, call 603-535-2366.
END:VEVENT
END:VCALENDAR
