BEGIN:VCALENDAR
VERSION:2.0
PRODID:-//Microsoft Corporation//Outlook 11.0 MIMEDIR//EN
METHOD:PUBLISH
BEGIN:VEVENT
CLASS:PUBLIC
CATEGORIES:Music
DTSTAMP:20260419120545Z
UID:pemigewassetchoralsociety2512051930-1776600345@choralarts-newengland.org
DTSTART:20251206T003000Z
DTEND:20251206T023000Z
SUMMARY:Pemigewasset Choral Society: \"Songs by the Hearth\"
LOCATION:Inter-Lakes Middle/High School\, 1 Laker Ln\, Meredith NH 03253
URL:http://www.pemichoral.org
DESCRIPTION:Seasonal songs and readings. Admission by donation. For more
  information\, call 603-535-2366.
END:VEVENT
END:VCALENDAR
