BEGIN:VCALENDAR
VERSION:2.0
PRODID:-//Microsoft Corporation//Outlook 11.0 MIMEDIR//EN
METHOD:PUBLISH
BEGIN:VEVENT
CLASS:PUBLIC
CATEGORIES:Music
DTSTAMP:20260419121349Z
UID:pemigewassetchoralsociety2512041930-1776600829@choralarts-newengland.org
DTSTART:20251205T003000Z
DTEND:20251205T023000Z
SUMMARY:Pemigewasset Choral Society: \"Songs by the Hearth\"
LOCATION:Gilford Community Church\, 19 Potter Hill Road\, Gilford NH 03249
URL:http://www.pemichoral.org
DESCRIPTION:Seasonal songs and readings. Admission by donation. For more
  information\, call 603-535-2366.
END:VEVENT
END:VCALENDAR
