BEGIN:VCALENDAR
VERSION:2.0
PRODID:-//Microsoft Corporation//Outlook 11.0 MIMEDIR//EN
METHOD:PUBLISH
BEGIN:VEVENT
CLASS:PUBLIC
CATEGORIES:Music
DTSTAMP:20260421032415Z
UID:newenglandconservatoryconcertchoirchambersingers2604231930-1776741855@choralarts-newengland.org
DTSTART:20260423T233000Z
DTEND:20260424T013000Z
SUMMARY:New England Conservatory Concert Choir & Chamber Singers: \"Voices of
  NEC\"
LOCATION:NEC's Jordan Hall\, 30 Gainsborough Street\, Boston MA 02115
URL:http://necmusic.edu/events/nec-symphonic-choir-nec-chamber-singers-erica-j-washburn-voices-of-nec/
DESCRIPTION:Benjamin Britten: Cantata Misericordium\, op. 69\; Tarik O'Regan:
  Triptych\; with choral works composed by current NEC students and 2025
  alumni\, selected by the Choral Composition Performance Composition
  panel. Daeun Seong: Invitation!\; Matthew Tirona: when i am gone away\;
  Junho Kim: Samul-Nori in America\; Runchen Li: Purple Bamboo\; Mathew
  Lanning: The Peace of Wild Things. Kira Lim\, soprano\; Shijin Sun\,
  tenor\; Graham Lin\, baritone\; Erica J. Washburn\, conductor. Free
  admission\, ticket required. For more information\, call 617-585-1100
  email erica.washburn@necmusic.edu.
END:VEVENT
END:VCALENDAR
