BEGIN:VCALENDAR
VERSION:2.0
PRODID:-//Microsoft Corporation//Outlook 11.0 MIMEDIR//EN
METHOD:PUBLISH
BEGIN:VEVENT
CLASS:PUBLIC
CATEGORIES:Music
DTSTAMP:20260421184941Z
UID:mastersingersofworcester2602211900-1776797381@choralarts-newengland.org
DTSTART:20260222T000000Z
DTEND:20260222T020000Z
SUMMARY:Master Singers of Worcester: \"Through the Eyes of a Child\"
LOCATION:Trinity Lutheran Church\, 73 Lancaster Street\, Worcester MA 01609
URL:http://www.mswma.org
DESCRIPTION:A \"lighter\" concert featuring songs from your childhood\, including
  stops at Sesame Street\, Mr. Rogers Neighborhood\, and Willy Wonka's
  chocolate factory\, to name but a few. For more information\, call
  508-842-1349 email info@mswma.org.
END:VEVENT
END:VCALENDAR
