BEGIN:VCALENDAR
VERSION:2.0
PRODID:-//Microsoft Corporation//Outlook 11.0 MIMEDIR//EN
METHOD:PUBLISH
BEGIN:VEVENT
CLASS:PUBLIC
CATEGORIES:Music
DTSTAMP:20260421184046Z
UID:mastersingersofworcester2511221900-1776796846@choralarts-newengland.org
DTSTART:20251123T000000Z
DTEND:20251123T020000Z
SUMMARY:Master Singers of Worcester: \"Loss And Transcendence\"
LOCATION:Trinity Lutheran Church\, 73 Lancaster Street\, Worcester MA 01609
URL:http://www.mswma.org
DESCRIPTION:Choral works spanning different periods and cultures\, each selected to
  evoke the profound emotions connected to grief\, remembrance\, and
  ultimately\, the ascent toward hope and healing. For more information\,
  call 508-842-1349 email letoc622@gmail.com.
END:VEVENT
END:VCALENDAR
