BEGIN:VCALENDAR
VERSION:2.0
PRODID:-//Microsoft Corporation//Outlook 11.0 MIMEDIR//EN
METHOD:PUBLISH
BEGIN:VEVENT
CLASS:PUBLIC
CATEGORIES:Music
DTSTAMP:20260421164526Z
UID:koleinuabeserevelt2511161600-1776789926@choralarts-newengland.org
DTSTART:20251116T210000Z
DTEND:20251116T230000Z
SUMMARY:Koleinu / A Besere Velt: \"Tikkun Olam ~ Together in Song\"
LOCATION:Congregation Kehilath Israel\, 384 Harvard Street\, Brookline MA 02446
URL:http://www.koleinu.org
DESCRIPTION:A collaborative concert offering healing and hope to the Jewish Community
  during these challenging times. With multi-instrumentalist Yoni Avi
  Battat. For more information\, email info@koleinu.org.
END:VEVENT
END:VCALENDAR
