BEGIN:VCALENDAR
VERSION:2.0
PRODID:-//Microsoft Corporation//Outlook 11.0 MIMEDIR//EN
METHOD:PUBLISH
BEGIN:VEVENT
CLASS:PUBLIC
CATEGORIES:Music
DTSTAMP:20260421171414Z
UID:kentsingers2603221500-1776791654@choralarts-newengland.org
DTSTART:20260322T190000Z
DTEND:20260322T210000Z
SUMMARY:Kent Singers: \"Spring concert\"
LOCATION:St. Andrew's Church\, 1 N Main Street\, Kent CT 06757
URL:http://www.kentsingers.com
DESCRIPTION:Johannes Brahms: Nänie\; Gabriel Fauré: Cantique de Jean Racine\;
  Morten Lauridsen: \"Sure On This Shining Night\"\; and other selections.
  For more information\, call 860-619-8110 email info@kentsingers.org.
END:VEVENT
END:VCALENDAR
