BEGIN:VCALENDAR
VERSION:2.0
PRODID:-//Microsoft Corporation//Outlook 11.0 MIMEDIR//EN
METHOD:PUBLISH
BEGIN:VEVENT
CLASS:PUBLIC
CATEGORIES:Music
DTSTAMP:20260421190809Z
UID:inchoronovo2512131930-1776798489@choralarts-newengland.org
DTSTART:20251214T003000Z
DTEND:20251214T023000Z
SUMMARY:In Choro Novo: \"Sing Joyfully\"
LOCATION:Marsh Chapel\, Boston University\, 735 Commonwealth Avenue\, Boston MA
  02215
URL:http://www.inchoronovo.org
DESCRIPTION: For more information\, call 617-469-3705 email info@inchoronovo.org.
END:VEVENT
END:VCALENDAR
