BEGIN:VCALENDAR
VERSION:2.0
PRODID:-//Microsoft Corporation//Outlook 11.0 MIMEDIR//EN
METHOD:PUBLISH
BEGIN:VEVENT
CLASS:PUBLIC
CATEGORIES:Music
DTSTAMP:20260421121400Z
UID:handelandhaydnsociety2512311300-1776773640@choralarts-newengland.org
DTSTART:20251231T180000Z
DTEND:20251231T200000Z
SUMMARY:Handel and Haydn Society: \"Emancipation Proclamation Concert\"
LOCATION:Trinity Church\, Copley Square\, 206 Clarendon Street\, Boston MA 02116
URL:http://www.handelandhaydn.org
DESCRIPTION:The annual commemoration of the original 1863 Grand Jubilee concert in
  Boston\, where members of H+H performed in celebration of Lincoln’s
  enactment of the Emancipation Proclamation. Anthony Trecek-King\,
  conductor\; Regie Gibson\, spoken word artist. With members of the H+H
  orchestra. In collaboration with the Museum of African American History.
  Free admission\, no ticket required. For more information\, call
  617-262-1815 email info@handelandhaydn.org.
END:VEVENT
END:VCALENDAR
