BEGIN:VCALENDAR
VERSION:2.0
PRODID:-//Microsoft Corporation//Outlook 11.0 MIMEDIR//EN
METHOD:PUBLISH
BEGIN:VEVENT
CLASS:PUBLIC
CATEGORIES:Music
DTSTAMP:20260423122931Z
UID:gmchoralewesleyanuniversity2510101700-1776947371@choralarts-newengland.org
DTSTART:20251010T210000Z
DTEND:20251010T230000Z
SUMMARY:GMChorale/Wesleyan University: \"The Bill of Rights: Ten Amendments in
  Eight Motets\"
LOCATION:Crowell Concert Hall\, 50 Wyllys Ave.\, Middletown CT 06459
URL:http://www.wesleyan.edu/cfa/events/2025/10-2025/10102025-bill-of-rights.html
DESCRIPTION:Neely Bruce's “The Bill of Rights: Ten Amendments in Eight Motets”\,
  composed in the style of William Billings\, is performed by GMChorale’s
  chamber ensemble\, Alchemy\, other community choral singers\, Wesleyan
  students\, and others. With harp\, string quintet\, flute and oboe. The
  performance is part of a project by Wesleyan's Center for the Study of
  Guns and Society that includes documentary filmmaker Karyl Evans\,
  Harvard Professor Jill Lepore and Wesleyan Professor Jennifer Tucker\,
  who are producing a documentary and performance video of the work for
  CPTV and national PBS broadcasts. Admission is free and open to the
  public. For more information\, call 860-316-4854 email
  info@gmchorale.org.
END:VEVENT
END:VCALENDAR
