BEGIN:VCALENDAR
VERSION:2.0
PRODID:-//Microsoft Corporation//Outlook 11.0 MIMEDIR//EN
METHOD:PUBLISH
BEGIN:VEVENT
CLASS:PUBLIC
CATEGORIES:Music
DTSTAMP:20260423103307Z
UID:glorideicantores2602211530-1776940387@choralarts-newengland.org
DTSTART:20260221T203000Z
DTEND:20260221T223000Z
SUMMARY:Gloriæ Dei Cantores: \"Grant Us Peace: Music of Arvo Pärt and Pēteris
  Vasks\"
LOCATION:Church of the Transfiguration\, Orleans\, MA\, Brewster MA 02631
URL:http://artsempoweringlife.org/ael-events/
DESCRIPTION:Arvo Pärt: L'Abbe Agathon\; Pēteris Vasks: Da Pacem\, Domine\; Lord
  Open Our Eyes\; The Fruit of Silence. Richard K. Pugsley\, director. With
  Creare Symphonia. Admission free for students & youth. For more
  information\, call 508-240-2400 email publicity@artsempoweringlife.org.
END:VEVENT
END:VCALENDAR
