BEGIN:VCALENDAR
VERSION:2.0
PRODID:-//Microsoft Corporation//Outlook 11.0 MIMEDIR//EN
METHOD:PUBLISH
BEGIN:VEVENT
CLASS:PUBLIC
CATEGORIES:Music
DTSTAMP:20260423123652Z
UID:gloriaedeicantores2511281630-1776947812@choralarts-newengland.org
DTSTART:20251128T213000Z
DTEND:20251128T233000Z
SUMMARY:Gloriae Dei Cantores: \"Services of Advent Lessons & Carols\"
LOCATION:Church of the Transfiguration\, 9 Bay View Drive\, Orleans MA 02653
URL:http://gdcchoir.org/events/
DESCRIPTION:Candlelit services with uplifting readings\, prayers\, and carols sung by
  Gloriæ Dei Cantores at the Church of the Transfiguration—a cherished
  tradition for over thirty years. Doors open one hour before the service\;
  no tickets required. For more information\, call 508-240-2400 email
  publicity@artsempoweringlife.org.
END:VEVENT
END:VCALENDAR
