BEGIN:VCALENDAR
VERSION:2.0
PRODID:-//Microsoft Corporation//Outlook 11.0 MIMEDIR//EN
METHOD:PUBLISH
BEGIN:VEVENT
CLASS:PUBLIC
CATEGORIES:Music
DTSTAMP:20260420125217Z
UID:farmingtonvalleychorale2605091600-1776689537@choralarts-newengland.org
DTSTART:20260509T200000Z
DTEND:20260509T220000Z
SUMMARY:Farmington Valley Chorale: \"Bach is Back\"
LOCATION:St. James's Episcopal Church\, 1018 Farmington Avenue\, West Hartford CT
  06107
URL:http://www.farmingtonvalleychorale.org
DESCRIPTION:J.S. Bach: Easter and Ascension Oratorios. With Concora soloists and
  orchestra. Ellen Gilson Voth\, conductor. Tickets: $25\, free for
  students. For more information\, call 860-651-8177 email
  admin@farmingtonvalleychorale.org.
END:VEVENT
END:VCALENDAR
