BEGIN:VCALENDAR
VERSION:2.0
PRODID:-//Microsoft Corporation//Outlook 11.0 MIMEDIR//EN
METHOD:PUBLISH
BEGIN:VEVENT
CLASS:PUBLIC
CATEGORIES:Music
DTSTAMP:20260423201136Z
UID:counterpoint2511081500-1776975096@choralarts-newengland.org
DTSTART:20251108T200000Z
DTEND:20251108T220000Z
SUMMARY:Counterpoint: \"Sunrise Mass\"
LOCATION:Congregational Church\, 8 N Main Street\, Waterbury VT 05676
URL:http://www.counterpointchorus.org
DESCRIPTION:Ola Gjeilo: Sunrise Mass. With the Eleva Chamber Players. For more
  information\, call 802-540-1784 email contact@counterpointchorus.org.
END:VEVENT
END:VCALENDAR
