BEGIN:VCALENDAR
VERSION:2.0
PRODID:-//Microsoft Corporation//Outlook 11.0 MIMEDIR//EN
METHOD:PUBLISH
BEGIN:VEVENT
CLASS:PUBLIC
CATEGORIES:Music
DTSTAMP:20260421132016Z
UID:conbriochoralsociety2512121900-1776777616@choralarts-newengland.org
DTSTART:20251213T000000Z
DTEND:20251213T020000Z
SUMMARY:Con Brio Choral Society: \"Sir John Rutter’s Christmas\"
LOCATION:Valley Regional High School\, 256 Kelsey Hill Road\, Deep River CT 06417
URL:http://www.conbrio.org
DESCRIPTION:John Rutter: Magnificat\; Fancies\; What Sweeter Music\; carols\; with
  traditional carol arrangement\, many with audience participation. Chris
  Shepard\, conductor. Louise Fauteux\, soprano. With the Con Brio Festival
  Orchestra. Tickets: $40\, $15 for students. For more information\, call
  860-526-5399 email webmaster@conbrio.org.
END:VEVENT
END:VCALENDAR
