BEGIN:VCALENDAR
VERSION:2.0
PRODID:-//Microsoft Corporation//Outlook 11.0 MIMEDIR//EN
METHOD:PUBLISH
BEGIN:VEVENT
CLASS:PUBLIC
CATEGORIES:Music
DTSTAMP:20260421183008Z
UID:arlingtonbelmontchoralearlingtonphilharmonicorchestra2512052000-1776796208@choralarts-newengland.org
DTSTART:20251206T010000Z
DTEND:20251206T030000Z
SUMMARY:Arlington-Belmont Chorale / Arlington Philharmonic Orchestra: \"Holiday
  Concert\"
LOCATION:First Parish Arlington\, 630 Massachusetts Avenue\, Arlington MA 02476
URL:http://www.psarlington.org/
DESCRIPTION:Margaret Bonds: The Ballad of the Brown King\; George Frederick Handel:
  Concerto a Due Cori No. 2\; Charles Ives: Three Places in New England.
  For more information\, call 617-489-1231 email chorale@psarlington.org.
END:VEVENT
END:VCALENDAR
