BEGIN:VCALENDAR
VERSION:2.0
PRODID:-//Microsoft Corporation//Outlook 11.0 MIMEDIR//EN
METHOD:PUBLISH
BEGIN:VEVENT
CLASS:PUBLIC
CATEGORIES:Music
DTSTAMP:20260421102255Z
UID:tessitura2603221500-1776766975@choralarts-newengland.org
DTSTART:20260322T190000Z
DTEND:20260322T210000Z
SUMMARY:Tessitura: \"Music of the Baroque and modern eras\"
LOCATION:Brattleboro Music Center\, 72 Blanche Moyse Way\, Brattleboro VT 05301
URL:http://www.bmcvt.org
DESCRIPTION:Claudio Monteverdi: Lamento d'Arianna\; Francis Poulenc: 4 Motets pour un
  temp de pénitence\; Fenno Heath: Kyrie\, from Mass\; Eric Whitacre:
  \"Sleep\". Mark Nelson\, director. Tickets: $20 advance\, $25 at the
  door. For more information\, call 802-257-4523 email info@bmcvt.org.
END:VEVENT
END:VCALENDAR
