BEGIN:VCALENDAR
VERSION:2.0
PRODID:-//Microsoft Corporation//Outlook 11.0 MIMEDIR//EN
METHOD:PUBLISH
BEGIN:VEVENT
CLASS:PUBLIC
CATEGORIES:Music
DTSTAMP:20260421015008Z
UID:portsmouthpromusica2512131930-1776736208@choralarts-newengland.org
DTSTART:20251214T003000Z
DTEND:20251214T023000Z
SUMMARY:Portsmouth Pro Musica: \"Christmas Music from Northern Europe\"
LOCATION:Immaculate Conception Church\, 98 Summer Street\, Portsmouth NH 03801
URL:http://www.portsmouthpromusica.org
DESCRIPTION:Music by Michael Praetorius\, Jacob Handl\, John Rutter\, Kim André
  Arnesen\, Ola Gjeilo and others. Adelyn Nelson\, piano\; Nicholas So\,
  violin\; Gary Hodges\, cello\; Hannah Messenger\, horn\; Priscilla
  Stevens French\, director. Tickets: $25 adults\, $15 students/seniors For
  more information\, call 603-436-8154 email info@ppmnh.org.
END:VEVENT
END:VCALENDAR
